BEGIN:VCALENDAR
VERSION:2.0
PRODID:-//CERN//INDICO//EN
BEGIN:VEVENT
SUMMARY:Breaking nus
DTSTART:20260415T110000Z
DTEND:20260415T120000Z
DTSTAMP:20260422T105800Z
UID:indico-event-87@indico.zdv.uni-mainz.de
CONTACT:hurth@uni-mainz.de
DESCRIPTION:Speakers: Gabriela Barenboim (IFIC Valencia\, Spain)\n\nhttps:
 //indico.zdv.uni-mainz.de/event/87/
LOCATION:R. 05-127 (Lorentz-Room) (Mainz)
URL:https://indico.zdv.uni-mainz.de/event/87/
END:VEVENT
END:VCALENDAR
