BEGIN:VCALENDAR
VERSION:2.0
PRODID:-//CERN//INDICO//EN
BEGIN:VEVENT
SUMMARY:Gateway to the quantum world: particle physics at DESY
DTSTART:20260422T110000Z
DTEND:20260422T120000Z
DTSTAMP:20260422T105800Z
UID:indico-event-88@indico.zdv.uni-mainz.de
CONTACT:hurth@uni-mainz.de
DESCRIPTION:Speakers: Ulrich Husemann (DESY Hamburg)\n\nThe exploration of
  the quantum world is one of humanity’s  greatest endeavors over the pa
 st century. Despite remarkable achievements\, big open questions persist. 
 In particle physics\, these are addressed by producing heavy particles at 
 powerful colliders or by investigating subtle quantum effects at colliders
  and beyond.DESY\, the German National Laboratory of particle physics\, ha
 s been at the forefront of these endeavors for nearly seven decades. The c
 olloquium will provide an overview of DESY’s particle physics program\, 
 encompassing both large-scale international experiments at colliders and s
 maller dedicated experiments at DESY to search for light and feebly intera
 cting particles such as axions. The presentation will also delve into DESY
 ’s core activities for the particle physics community\, including accele
 rators\, detectors and computing to theoretical physics.\n\nhttps://indico
 .zdv.uni-mainz.de/event/88/
LOCATION:R. 05-127 (Lorentz-Room) (Mainz)
URL:https://indico.zdv.uni-mainz.de/event/88/
END:VEVENT
END:VCALENDAR
