BEGIN:VCALENDAR
VERSION:2.0
PRODID:-//CERN//INDICO//EN
BEGIN:VEVENT
SUMMARY:Machine Learning Methods for BSM Searches
DTSTART:20260429T110000Z
DTEND:20260429T120000Z
DTSTAMP:20260422T105800Z
UID:indico-event-89@indico.zdv.uni-mainz.de
CONTACT:hurth@uni-mainz.de
DESCRIPTION:Speakers: Lukas Heinrich (TU Munich)\n\nhttps://indico.zdv.uni
 -mainz.de/event/89/
LOCATION:R. 05-127 (Lorentz-Room) (Mainz)
URL:https://indico.zdv.uni-mainz.de/event/89/
END:VEVENT
END:VCALENDAR
